BEGIN:VCALENDAR
VERSION:2.0
PRODID:-//Joe De La Torre Sings - ECPv6.13.2.1//NONSGML v1.0//EN
CALSCALE:GREGORIAN
METHOD:PUBLISH
X-WR-CALNAME:Joe De La Torre Sings
X-ORIGINAL-URL:https://joedelatorresings.com
X-WR-CALDESC:Events for Joe De La Torre Sings
REFRESH-INTERVAL;VALUE=DURATION:PT1H
X-Robots-Tag:noindex
X-PUBLISHED-TTL:PT1H
BEGIN:VTIMEZONE
TZID:UTC
BEGIN:STANDARD
TZOFFSETFROM:+0000
TZOFFSETTO:+0000
TZNAME:UTC
DTSTART:20170101T000000
END:STANDARD
END:VTIMEZONE
BEGIN:VEVENT
DTSTART;TZID=UTC:20230924T130000
DTEND;TZID=UTC:20230924T150000
DTSTAMP:20260423T154703
CREATED:20230909T003808Z
LAST-MODIFIED:20230909T004056Z
UID:253-1695560400-1695567600@joedelatorresings.com
SUMMARY:Free Concert Event - Baylands Park in Sunnyvale. 999 E. Caribbean Dr. in Sunnyvale -Click to learn more...
DESCRIPTION:Don’t miss Joe De La Torre and his band in a FREE concert Sunday September 24 at the beautiful Baylands Park in Sunnyvale. 999 E. Caribbean Dr. in Sunnyvale. The concert is free but admission to the park is $6.00 per car.  Make plans to be there as Joe performs his popular Tribute to American Pop\, Easy Listening\, the Great Spanish & Italian Classics\, taking you on a sonic journey through the Great American Songbook as he renders the classic pop songs by the likes of Jerry Vale\, A Martino\, Vic Damone\, Englebert Humperdink\, and other great vocalists. \nGet ready to sing along. Get ready to dance.  It’s gonna’ be fun.
URL:https://joedelatorresings.com/event/free-concert-event/
END:VEVENT
BEGIN:VEVENT
DTSTART;TZID=UTC:20200315T190000
DTEND;TZID=UTC:20200315T210000
DTSTAMP:20260423T154703
CREATED:20200124T040136Z
LAST-MODIFIED:20200124T040136Z
UID:247-1584298800-1584306000@joedelatorresings.com
SUMMARY:Joe De La Torre returns to Angelicas in Redwood City Sunday March 15
DESCRIPTION:Don’t miss Joe De La Torre and the band as they return to Angelicas in downtown Redwood City. Make plans to be there as Joe performs his popular Tribute to American Pop\, Easy Listening\, the Great Spanish & Italian Classics\, taking you on a sonic journey through the Great American Songbook as he renders the classic pop songs by the likes of Jerry Vale\, A Martino\, Vic Damone\, Englebert Humperdink\, and other great vocalists. Bring your friends. Make some friends. Have some fun!
URL:https://joedelatorresings.com/event/joe-de-la-torre-returns-to-angelicas-in-redwood-city-sunday-march-15/
LOCATION:Angelicas\, 863 Main Street\, Redwood City\, CA\, 94063
END:VEVENT
BEGIN:VEVENT
DTSTART;TZID=UTC:20190926T190000
DTEND;TZID=UTC:20190926T210000
DTSTAMP:20260423T154703
CREATED:20190722T014122Z
LAST-MODIFIED:20190909T015833Z
UID:235-1569524400-1569531600@joedelatorresings.com
SUMMARY:Joe De La Torre returns to Angelicas in Redwood City Thursday September 26
DESCRIPTION:Don’t miss Joe De La Torre and the band as they return to Angelicas in downtown Redwood City. Make plans to be there as Joe performs his popular Tribute to American Pop\, Easy Listening\, the Great Spanish & Italian Classics\, taking you on a sonic journey through the Great American Songbook as he renders the classic pop songs by the likes of Jerry Vale\, A Martino\, Vic Damone\, Englebert Humperdink\, and other great vocalists. Bring your friends. Make some friends. Have some fun!
URL:https://joedelatorresings.com/event/joe-de-la-torre-returns-to-angelicas-thursday-september-5/
END:VEVENT
BEGIN:VEVENT
DTSTART;TZID=UTC:20190613T190000
DTEND;TZID=UTC:20190613T210000
DTSTAMP:20260423T154703
CREATED:20190411T210555Z
LAST-MODIFIED:20190426T150349Z
UID:229-1560452400-1560459600@joedelatorresings.com
SUMMARY:Joe De La Torre and the band play Angelica's - Redwood City
DESCRIPTION:Don’t miss Joe De La Torre and the band as they return to Angelica’s in downtown Redwood City. Make plans to be there as Joe performs his popular Tribute to American Pop\, Easy Listening\, the Great Spanish & Italian Classics\, taking you on a sonic journey through the Great American Songbook as he renders the classic pop songs by the likes of Jerry Vale\, A Martino\, Vic Damone\, Englebert Humperdink\, and other great vocalists. Bring your friends. \nhttp://www.angelicasllc.com/
URL:https://joedelatorresings.com/event/joe-de-la-torre-and-the-band-play-angelicas-redwood-city/
LOCATION:Angelicas\, 863 Main Street\, Redwood City\, CA\, 94063
END:VEVENT
BEGIN:VEVENT
DTSTART;TZID=UTC:20190321T190000
DTEND;TZID=UTC:20190321T210000
DTSTAMP:20260423T154703
CREATED:20190213T031332Z
LAST-MODIFIED:20190213T031606Z
UID:225-1553194800-1553202000@joedelatorresings.com
SUMMARY:Joe De La Torre & the band return to Angelicas - downtown Redwood City - Thursday March 21\, 7 - 9pm
DESCRIPTION:Don’t miss Joe De La Torre and the band as they return to Angelicas in downtown Redwood City. Make plans to be there as Joe performs his popular Tribute to American Pop\, Easy Listening\, the Great Spanish & Italian Classics. Be there as he takes you on a sonic journey through the Great American Songbook as he renders the classic pop songs by the likes of Jerry Vale\, A Martino\, Vic Damone\, Englebert Humperdink\, and other great vocalists.
URL:https://joedelatorresings.com/event/joe-de-la-torre-and-the-band-return-to-angelicas-in-downtown-redwood-city-thursday-march-21-7-9pm/
LOCATION:Angelicas\, 863 Main Street\, Redwood City\, CA\, 94063
END:VEVENT
BEGIN:VEVENT
DTSTART;TZID=UTC:20190110T190000
DTEND;TZID=UTC:20190110T210000
DTSTAMP:20260423T154703
CREATED:20181205T164227Z
LAST-MODIFIED:20181205T164729Z
UID:217-1547146800-1547154000@joedelatorresings.com
SUMMARY:Joe De La Torre and his band return to Angelicas in downtown Redwood City.  Be there Thursday\, January 10 @ 7:00 pm - 9:00 pm
DESCRIPTION:Start the new year for in a big way. Make plans to join Joe De La Torre and the band as they return to Angelicas in downtown Redwood City. Mark your calendars. Get your tickets and be there as Joe performs his popular Tribute to American Pop\, Easy Listening\, the Great Spanish & Italian Classics\, taking you on a sonic journey through the Great American Songbook as he renders the classic pop songs by the likes of Jerry Vale\, A Martino\, Vic Damone\, Englebert Humperdink\, and other great vocalists. Thursday\, January 10 @ 7:00 pm – 9:00 pm
URL:https://joedelatorresings.com/event/joe-de-la-torre-and-his-band-return-to-angelicas-in-downtown-redwood-city-january-10-700-pm-900-pm/
LOCATION:Angelicas\, 863 Main Street\, Redwood City\, CA\, 94063
END:VEVENT
BEGIN:VEVENT
DTSTART;TZID=UTC:20181101T190000
DTEND;TZID=UTC:20181101T210000
DTSTAMP:20260423T154703
CREATED:20180917T145940Z
LAST-MODIFIED:20180917T145940Z
UID:214-1541098800-1541106000@joedelatorresings.com
SUMMARY:Joe De La Torre returns to Angelicas in downtown Redwood City
DESCRIPTION:Don’t miss Joe De La Torre and the band as they return to Angelicas in downtown Redwood City. Make plans to be there as Joe performs his popular Tribute to American Pop\, Easy Listening\, the Great Spanish & Italian Classics\, taking you on a sonic journey through the Great American Songbook as he renders the classic pop songs by the likes of Jerry Vale\, A Martino\, Vic Damone\, Englebert Humperdink\, and other great vocalists.
URL:https://joedelatorresings.com/event/joe-de-la-torre-returns-to-angelicas-in-downtown-redwood-city/
LOCATION:Angelicas\, 863 Main Street\, Redwood City\, CA\, 94063
END:VEVENT
BEGIN:VEVENT
DTSTART;TZID=UTC:20180913T190000
DTEND;TZID=UTC:20180913T210000
DTSTAMP:20260423T154703
CREATED:20180726T200444Z
LAST-MODIFIED:20180726T200444Z
UID:211-1536865200-1536872400@joedelatorresings.com
SUMMARY:Joe De La Torre and Band return to Angelicas in Redwood City
DESCRIPTION:Don’t miss Joe De La Torre and the band as they return to Angelicas in downtown Redwood City. Make plans to be there as Joe performs his popular Tribute to American Pop\, Easy Listening\, the Great Spanish & Italian Classics\, taking you on a sonic journey through the Great American Songbook as he renders the classic pop songs by the likes of Jerry Vale\, Al Martino\, Vic Damone\, Englebert Humperdink\, and many other great vocalists. Get your tickets today. It’s gonna be big.
URL:https://joedelatorresings.com/event/joe-de-la-torre-and-band-return-to-angelicas-in-redwood-city-2/
LOCATION:Angelicas\, 863 Main Street\, Redwood City\, CA\, 94063
END:VEVENT
BEGIN:VEVENT
DTSTART;TZID=UTC:20180710T190000
DTEND;TZID=UTC:20180710T210000
DTSTAMP:20260423T154703
CREATED:20180606T205015Z
LAST-MODIFIED:20180606T205652Z
UID:205-1531249200-1531256400@joedelatorresings.com
SUMMARY:Joe De La Torre and Band Return to ANGeLiCAS in downtown Redwood City!
DESCRIPTION:Don’t miss Joe De La Torre and the band as they return to Angelicas in downtown Redwood City. Make plans to be there as Joe performs his popular Tribute to the Classics of the 60’s 70’s and 80’s\, taking you on a sonic journey through the Great American Songbook as he renders the classic pop songs by the likes of Jerry Vale\, A Martino\, Vic Damone\, Englebert Humperdink\, and other great vocalists.
URL:https://joedelatorresings.com/event/joe-de-la-torre-and-band-return-to-angelicas-in-redwood-city/
LOCATION:Angelicas\, 863 Main Street\, Redwood City\, CA\, 94063
END:VEVENT
BEGIN:VEVENT
DTSTART;TZID=UTC:20180605T190000
DTEND;TZID=UTC:20180605T210000
DTSTAMP:20260423T154703
CREATED:20180511T155104Z
LAST-MODIFIED:20180511T183832Z
UID:189-1528225200-1528232400@joedelatorresings.com
SUMMARY:Joe De La Torres Sings the Classics at Angelicas - 863 Main St. Redwood City
DESCRIPTION:Don’t miss Joe De La Torre and the band as they bring their Tribute to the Classics of the 60’s\, 70’s and 80’s to Angelicas in downtown Redwood City. Joe will take you on a sonic journey through the Great American Songbook as he sings the classic pop songs by the likes of Jerry Vale\, Al Martino\, Vic Damone\, Englebert Humperdink\, and other great vocalists. For tickets click ‘Find Out More’ below\, or   Tickets
URL:https://joedelatorresings.com/event/joe-de-la-torres-sings-the-classics-at-angelicas-in-redwood-city/
LOCATION:Angelicas\, 863 Main Street\, Redwood City\, CA\, 94063
END:VEVENT
BEGIN:VEVENT
DTSTART;TZID=UTC:20180127T210000
DTEND;TZID=UTC:20180127T210000
DTSTAMP:20260423T154703
CREATED:20180110T162439Z
LAST-MODIFIED:20180110T162439Z
UID:178-1517086800-1517086800@joedelatorresings.com
SUMMARY:Joe de la Torre Sings at Three Flames – San Jose
DESCRIPTION:Don’t miss Joe de la Torre and His Band\, Saturday January 27\, as they perform at the fabulous Three Flames in San Jose – 1547 Meridan Ave\, San Jose . Joe will be singing the great classic songs from his two recent CDs. The show starts at 9:00 pm.
URL:https://joedelatorresings.com/event/joe-de-la-torre-sings-at-three-flames-san-jose/
END:VEVENT
BEGIN:VEVENT
DTSTART;TZID=UTC:20180126T210000
DTEND;TZID=UTC:20180126T210000
DTSTAMP:20260423T154703
CREATED:20180110T160608Z
LAST-MODIFIED:20180110T162556Z
UID:165-1517000400-1517000400@joedelatorresings.com
SUMMARY:Joe de la Torre Sings at Three Flames - San Jose
DESCRIPTION:Don’t miss Joe de la Torre and His Band Friday January 26\, as they perform at the fabulous Three Flames in San Jose – 1547 Meridan Ave\, San Jose 408-269-3133. Joe will be featuring the great classic songs from his two recent CDs. The show starts at 9:00 pm.
URL:https://joedelatorresings.com/event/joe-de-la-torre-sings-at-the-three-flames-san-jose/
END:VEVENT
BEGIN:VEVENT
DTSTART;TZID=UTC:20171216T193000
DTEND;TZID=UTC:20171216T193000
DTSTAMP:20260423T154703
CREATED:20171115T170622Z
LAST-MODIFIED:20171115T170920Z
UID:105-1513452600-1513452600@joedelatorresings.com
SUMMARY:Joe de la Torre Sings at 88 Keys in Morgan Hill
DESCRIPTION:Don’t miss Joe de la Torre at the wonderful 88 Keys in Morgan Hill. Joe will be singing tunes from his 2 recent CDs.  The show starts at 7:00.
URL:https://joedelatorresings.com/event/joe-de-la-torre-sings-at-88-keys/
ATTACH;FMTTYPE=image/png:https://joedelatorresings.com/wp-content/uploads/2017/11/88keysmh300.png
END:VEVENT
END:VCALENDAR